BEGIN:VCALENDAR
VERSION:2.0
PRODID:-//Mount Bachelor National Ski Patrol - ECPv6.15.3//NONSGML v1.0//EN
CALSCALE:GREGORIAN
METHOD:PUBLISH
X-ORIGINAL-URL:https://www.mtbachelornsp.org
X-WR-CALDESC:Events for Mount Bachelor National Ski Patrol
REFRESH-INTERVAL;VALUE=DURATION:PT1H
X-Robots-Tag:noindex
X-PUBLISHED-TTL:PT1H
BEGIN:VTIMEZONE
TZID:America/Los_Angeles
BEGIN:DAYLIGHT
TZOFFSETFROM:-0800
TZOFFSETTO:-0700
TZNAME:PDT
DTSTART:20240310T100000
END:DAYLIGHT
BEGIN:STANDARD
TZOFFSETFROM:-0700
TZOFFSETTO:-0800
TZNAME:PST
DTSTART:20241103T090000
END:STANDARD
END:VTIMEZONE
BEGIN:VEVENT
DTSTART;TZID=America/Los_Angeles:20241026T080000
DTEND;TZID=America/Los_Angeles:20241026T170000
DTSTAMP:20260423T103802
CREATED:20240413T183622Z
LAST-MODIFIED:20240413T183622Z
UID:15610-1729929600-1729962000@www.mtbachelornsp.org
SUMMARY:Instructor OEC Refresher
DESCRIPTION:The Instructor OEC Refresher will be held on Saturday\, Oct. 26 at WVL.
URL:https://www.mtbachelornsp.org/event/instructor-oec-refresher/
LOCATION:Mt. Bachelor\, West Village Lodge
END:VEVENT
BEGIN:VEVENT
DTSTART;TZID=America/Los_Angeles:20241003T180000
DTEND;TZID=America/Los_Angeles:20241003T200000
DTSTAMP:20260423T103802
CREATED:20240808T043709Z
LAST-MODIFIED:20240808T043709Z
UID:15641-1727978400-1727985600@www.mtbachelornsp.org
SUMMARY:October Patrol Meeting
DESCRIPTION:October Patrol Meeting
URL:https://www.mtbachelornsp.org/event/october-patrol-meeting/
LOCATION:The Environmental Center\, 16 NW Kansas Ave\, Bend\, OR\, 97701\, United States
ORGANIZER;CN="Eric Brittingham":MAILTO:ebrittingham@mtbachelornsp.org
END:VEVENT
BEGIN:VEVENT
DTSTART;TZID=America/Los_Angeles:20241002T180000
DTEND;TZID=America/Los_Angeles:20241002T190000
DTSTAMP:20260423T103802
CREATED:20240808T043617Z
LAST-MODIFIED:20240808T043617Z
UID:15639-1727892000-1727895600@www.mtbachelornsp.org
SUMMARY:October eBoard meeting
DESCRIPTION:October eBoard meeting
URL:https://www.mtbachelornsp.org/event/october-eboard-meeting-2/
LOCATION:The Environmental Center\, 16 NW Kansas Ave\, Bend\, OR\, 97701\, United States
ORGANIZER;CN="Eric Brittingham":MAILTO:ebrittingham@mtbachelornsp.org
END:VEVENT
BEGIN:VEVENT
DTSTART;TZID=America/Los_Angeles:20241002T170000
DTEND;TZID=America/Los_Angeles:20241002T180000
DTSTAMP:20260423T103802
CREATED:20240808T043524Z
LAST-MODIFIED:20240808T043524Z
UID:15637-1727888400-1727892000@www.mtbachelornsp.org
SUMMARY:October Training Committee meeting
DESCRIPTION:October Training Committee meeting
URL:https://www.mtbachelornsp.org/event/october-training-committee-meeting/
LOCATION:The Environmental Center\, 16 NW Kansas Ave\, Bend\, OR\, 97701\, United States
ORGANIZER;CN="Ted Stensland":MAILTO:ted.stensland@icloud.com
END:VEVENT
BEGIN:VEVENT
DTSTART;TZID=America/Los_Angeles:20240904T180000
DTEND;TZID=America/Los_Angeles:20240904T190000
DTSTAMP:20260423T103802
CREATED:20240808T043425Z
LAST-MODIFIED:20240808T043425Z
UID:15635-1725472800-1725476400@www.mtbachelornsp.org
SUMMARY:September eBoard meeting
DESCRIPTION:September eBoard meeting
URL:https://www.mtbachelornsp.org/event/september-eboard-meeting/
LOCATION:The Environmental Center\, 16 NW Kansas Ave\, Bend\, OR\, 97701\, United States
ORGANIZER;CN="Eric Brittingham":MAILTO:ebrittingham@mtbachelornsp.org
END:VEVENT
BEGIN:VEVENT
DTSTART;TZID=America/Los_Angeles:20240904T170000
DTEND;TZID=America/Los_Angeles:20240904T180000
DTSTAMP:20260423T103802
CREATED:20240808T043259Z
LAST-MODIFIED:20240808T043259Z
UID:15633-1725469200-1725472800@www.mtbachelornsp.org
SUMMARY:September Training Committee meeting
DESCRIPTION:September Training Committee meeting
URL:https://www.mtbachelornsp.org/event/september-training-committee-meeting/
LOCATION:The Environmental Center\, 16 NW Kansas Ave\, Bend\, OR\, 97701\, United States
ORGANIZER;CN="Ted Stensland":MAILTO:ted.stensland@icloud.com
END:VEVENT
BEGIN:VEVENT
DTSTART;TZID=America/Los_Angeles:20240504T170000
DTEND;TZID=America/Los_Angeles:20240504T220000
DTSTAMP:20260423T103802
CREATED:20240130T173855Z
LAST-MODIFIED:20240420T203424Z
UID:15564-1714842000-1714860000@www.mtbachelornsp.org
SUMMARY:Awards Banquet
DESCRIPTION:Annual Awards Banquet
URL:https://www.mtbachelornsp.org/event/awards-banquet/
LOCATION:10 Barrel Brewing East Side\, 62950 NE 18th St\, Bend\, OR\, United States
END:VEVENT
END:VCALENDAR